BEGIN:VCALENDAR
VERSION:2.0
PRODID:-//Strategic Research and Development Center, Inc. - ECPv6.15.12.2//NONSGML v1.0//EN
CALSCALE:GREGORIAN
METHOD:PUBLISH
X-WR-CALNAME:Strategic Research and Development Center, Inc.
X-ORIGINAL-URL:https://strandasia.net
X-WR-CALDESC:Events for Strategic Research and Development Center, Inc.
REFRESH-INTERVAL;VALUE=DURATION:PT1H
X-Robots-Tag:noindex
X-PUBLISHED-TTL:PT1H
BEGIN:VTIMEZONE
TZID:UTC
BEGIN:STANDARD
TZOFFSETFROM:+0000
TZOFFSETTO:+0000
TZNAME:UTC
DTSTART:20190101T000000
END:STANDARD
END:VTIMEZONE
BEGIN:VEVENT
DTSTART;VALUE=DATE:20201222
DTEND;VALUE=DATE:20201224
DTSTAMP:20260424T033634
CREATED:20211013T231728Z
LAST-MODIFIED:20211013T232154Z
UID:24593-1608595200-1608767999@strandasia.net
SUMMARY:National Conference on Research\, Data Analytics\, And Artificial Intelligence
DESCRIPTION:As we celebrate the yuletide season\, we are inviting you to attend the National Conference On Research\, Data Analytics\, And Artificial Intelligence on December 22-23\, 2020 (8:00 am to 5:00 pm) via ZOOM\, \n  \nGenerally\, this conference aims to help participants to keep up with the latest trends in research\, data analysis\, and to be introduced to the realm of artificial intelligence. Speakers will share techniques on how participants can publish papers in both local and international publications. Here are the specific objectives of the conference: \n*To understand the fundamentals of research writing\, ethics\, and publication. Help the participants understand the standard practice in the subjects mentioned above in research. \n*To help participants understand sampling and statistical analysis. In the discussion on statistical analysis\, participants will finally understand the right statistical techniques that will conform to the research problem. Qualitative data analysis will also be discussed. \n*Introduce how machine learning should be utilized in academe and businesses. \n*Introduce the role of artificial intelligence in research and to businesses. \nInterested to join? See the registration details below: \nFees (per participant): **PHP400.00 (New participant)\n**PHP250.00 (Returning participant) \nReturning participants must present proof of their previous StrandAsia training or seminar participation\, such as a certificate. \nFees are inclusive of a certificate of participation and attendance\, handouts (PDF only)\, and a chance to consult the speakers. Acknowledgment Receipt will be issued as proof of payment. \n  \nWho should attend? \nStatisticians\, students (undergraduate and graduate)\, researchers as long as you are interested in leveling up your knowledge in research\, statistics\, and artificial intelligence. \nCHED temporarily stopped the issuance of CHED endorsements; however\, our fees are aligned to the DBM memorandum on National Budget Circular no. 563 series of 2016. Our training\, seminars\, and conference usually take minimum training hours of 7 (hours a day). \nTo register: https://www.surveymonkey.com/r/NCDARAI \nMore details: https://drive.google.com/drive/folders/19w0H824og4EY7WP6G81O1wgHLwvKCyPv?usp=sharing
URL:https://strandasia.net/event/national-conference-on-research-data-analytics-and-artificial-intelligence/
CATEGORIES:Training
ATTACH;FMTTYPE=image/png:https://strandasia.net/wp-content/uploads/2021/10/DECEMBERNATIONALCONFERENCE-Copy3.png
END:VEVENT
BEGIN:VEVENT
DTSTART;VALUE=DATE:20201209
DTEND;VALUE=DATE:20201212
DTSTAMP:20260424T033634
CREATED:20201208T160000Z
LAST-MODIFIED:20211013T232202Z
UID:24596-1607472000-1607731199@strandasia.net
SUMMARY:Intermediate Statistical Analysis In-Depth Seminar-Workshop
DESCRIPTION:The seminar-workshop aims to gather participants who are writing their research paper\, academicians (secondary\, tertiary and postgraduate) and government employees whose job is to conduct and write a research paper and analyze data as well. \nOur main objective for this seminar-workshop is to teach the practice the art of statistical analysis and build a clear foundation and understanding of how participants may utilize statistical tests that will be presented and discussed during the seminar-workshop. This seminar-workshop will also introduce parametric tests\, non-parametric tests\, regression analysis\, and complex statistical analysis. By the end of the seminar-workshop participants will easily distinguish which statistical test will help solve their research problem. Assumptions\, application\, theory and practical examples will be used and discussed in this workshop. \nCHED temporarily stopped the issuance of CHED endorsements\, however\, our fees are aligned to the DBM memorandum on National Budget Circular no. 563 series of 2016. The training fee is PHP3000.00 per participant which is inclusive of 12% VAT\, a temporary license for IBM SPSS Statistics(if the webinar or workshop will require the use)\, a seminar kit\, a certificate of completion and attendance and the learning experience. The seminar-workshop will run for three (3) days\, with a minimum training hour of 7 (hours a day). This webinar will be via ZOOM. \nTo register: https://www.surveymonkey.com/r/REGFORMS \nCourse Outline: https://drive.google.com/drive/folders/1EOqXvlvk07jpK57bWuH4f6LJyRm0o_zt?usp=sharing \nFor inquries\, email us at strandasiatrainings@yahoo.com\, or call us at 09190696424/02-8-359-6170/09190690120.
URL:https://strandasia.net/event/intermediate-statistical-analysis-in-depth-seminar-workshop/
CATEGORIES:Training
ATTACH;FMTTYPE=image/png:https://strandasia.net/wp-content/uploads/2021/10/decemberintermediate2020-1-Copy3.png
END:VEVENT
BEGIN:VEVENT
DTSTART;VALUE=DATE:20201109
DTEND;VALUE=DATE:20201112
DTSTAMP:20260424T033634
CREATED:20201108T160000Z
LAST-MODIFIED:20211013T232210Z
UID:24590-1604880000-1605139199@strandasia.net
SUMMARY:Advanced Statistical Analysis using IBM SPSS - November 9-11\, 2020 via Zoom
DESCRIPTION:In this webinar\, participants will deal with advanced statistical analysis. On the first day of the webinar\, participants will be reviewed on the basic statistical analysis. In the next days\, logistic regression\, survival analysis\, cluster analysis\, factor analysis\, manova\, repeated measures anova and discriminant analysis.cluster analysis\, manova\, and two-way anova will be discussed. Practical examples\, theories\, and application of each statistical test will be incorporated into the discussion. The speakers of this webinar will ensure that no participant will be astray from the discussion by using layman’s terms. \nCHED temporarily stopped the issuance of CHED endorsements\, however\, our fees are aligned to the DBM memorandum on National Budget Circular no. 563 series of 2016. The training fee is PHP3000.00 per participant which is inclusive of 12% VAT\, a temporary license for IBM SPSS Statistics(if the webinar or workshop will require the use)\, a seminar kit\, a certificate of completion and attendance and the learning experience. The seminar-workshop will run for three (3) days\, with a minimum training hour of 7 (hours a day). This webinar will be via ZOOM. \nTo register: https://www.surveymonkey.com/r/REGFORMS \nCourse Outline: https://drive.google.com/drive/folders/1XcklymbKA0giQx31-jFIs0t_JQSrUCHi?usp=sharing \nFor inquires\, email us at strandasiatrainings@yahoo.com\, or call us at 09190696424/02-8-359-6170/09190690120.
URL:https://strandasia.net/event/advanced-statistical-analysis-using-ibm-spss-november-9-11-2020-via-zoom/
CATEGORIES:Training
ATTACH;FMTTYPE=image/png:https://strandasia.net/wp-content/uploads/2020/11/novadvancedstatisticalbanner.png
END:VEVENT
BEGIN:VEVENT
DTSTART;VALUE=DATE:20201103
DTEND;VALUE=DATE:20201107
DTSTAMP:20260424T033634
CREATED:20201102T160000Z
LAST-MODIFIED:20211013T232239Z
UID:24586-1604361600-1604707199@strandasia.net
SUMMARY:Research Writing And Statistical Analysis In-Depth Seminar-Workshop
DESCRIPTION:Our main objective for this seminar-workshop is to teach the practice and art of research writing and statistical analysis. The in-depth-seminar workshop aims to teach the participants the standard of research writing such as writing an introduction\, literatures\, formulation statement of the problem\, interpreting results and many more. \nCHED temporarily stopped the issuance of CHED endorsements\, however\, our fees are aligned to the DBM memorandum on National Budget Circular no. 563 series of 2016. The training fee is PHP3000.00 per participant which is inclusive of 12% VAT\, a temporary license for IBM SPSS Statistics(if the webinar or workshop will require the use)\, a seminar kit\, a certificate of completion and attendance and the learning experience. The seminar-workshop will run for four (4) days\, with a minimum training hour of 7 (hours a day). This webinar will be via ZOOM. \nTo register: https://www.surveymonkey.com/r/REGFORMS \nCourse Outline: https://drive.google.com/drive/folders/1XcklymbKA0giQx31-jFIs0t_JQSrUCHi?usp=sharing \nFor inquires\, email us at strandasiatrainings@yahoo.com\, or call us at 09190696424/02-8-359-6170/09190690120.
URL:https://strandasia.net/event/research-writing-and-statistical-analysis-in-depth-seminar-workshop/
CATEGORIES:Training
ATTACH;FMTTYPE=image/png:https://strandasia.net/wp-content/uploads/2021/10/novresearchwriting-Copy2.png
END:VEVENT
END:VCALENDAR